BEGIN:VCALENDAR
VERSION:2.0
PRODID:-//Squarespace Inc/Squarespace 6//v6//EN
BEGIN:VEVENT
UID:641c7eaf044d912129a609c8@squarespace.com
DTSTAMP:20230406T190311Z
DTSTART:20230415T190000Z
DTEND:20230415T230000Z
SUMMARY:High-Flying with Redmond Stem Center
GEO:47.686457;-122.098162
LOCATION:Centro Cultural Mexicano Maker Space\, East Road\, Redmond\, WA\, 
 98052\, United States
END:VEVENT
END:VCALENDAR
