BEGIN:VCALENDAR
VERSION:2.0
PRODID:-//Squarespace Inc/Squarespace 6//v6//EN
BEGIN:VEVENT
UID:6283f0e57f42df5df7985b6a@squarespace.com
DTSTAMP:20220517T212826Z
DTSTART:20220617T013000Z
DTEND:20220617T033000Z
SUMMARY:Rainbow on the Eastside - Artist's Reception
GEO:40.720756;-74.000761
LOCATION:Centro Cultural Mexicano\, 7945 GILMAN ST\, REDMOND\, United State
 s
END:VEVENT
END:VCALENDAR
