BEGIN:VCALENDAR
VERSION:2.0
PRODID:-//Squarespace Inc/Squarespace 6//v6//EN
BEGIN:VEVENT
UID:62cef9c86cd684352ee6d1fa@squarespace.com
DTSTAMP:20220715T185809Z
DTSTART:20220722T013000Z
DTEND:20220722T040000Z
SUMMARY:Public Forum with King County Council Chair Claudia Balducci
GEO:47.674274;-122.122404
LOCATION:Centro Cultural Mexicano\, 16300 Redmond Way\, Redmond\, WA\, 9805
 2\, United States
END:VEVENT
END:VCALENDAR
