BEGIN:VCALENDAR
VERSION:2.0
PRODID:-//Squarespace Inc/Squarespace 6//v6//EN
BEGIN:VEVENT
UID:631ba114f2c43622564e195e@squarespace.com
DTSTAMP:20220909T203333Z
DTSTART:20220928T010000Z
DTEND:20220928T030000Z
SUMMARY:Necesitas acceder a fondos para tu negocio?
END:VEVENT
END:VCALENDAR
