BEGIN:VCALENDAR
VERSION:2.0
PRODID:-//Squarespace Inc/Squarespace 6//v6//EN
BEGIN:VEVENT
UID:630e7b77c521e805eac65170@squarespace.com
DTSTAMP:20220830T211036Z
DTSTART:20220828T200000Z
DTEND:20220828T230000Z
SUMMARY:Mochila para el regreso a clases
END:VEVENT
END:VCALENDAR
