BEGIN:VCALENDAR
VERSION:2.0
PRODID:-//Squarespace Inc/Squarespace 6//v6//EN
BEGIN:VEVENT
UID:6400f300bce43f17d11b0c59@squarespace.com
DTSTAMP:20230302T191121Z
DTSTART:20230215T020000Z
DTEND:20230215T040000Z
SUMMARY:Love of Art
END:VEVENT
END:VCALENDAR
