BEGIN:VCALENDAR
VERSION:2.0
PRODID:-//Squarespace Inc/Squarespace 6//v6//EN
BEGIN:VEVENT
UID:61afd62b3fc8d537172dcbbf@squarespace.com
DTSTAMP:20220325T181834Z
DTSTART:20211206T170000Z
DTEND:20211218T020000Z
SUMMARY:Holiday Toy Drive: Recolección de juguetes para niños 
GEO:40.720756;-74.000761
LOCATION:Centro Cultural Mexicano\, 7945 GILMAN ST\, REDMOND\, United State
 s
END:VEVENT
END:VCALENDAR
