BEGIN:VCALENDAR
VERSION:2.0
PRODID:-//Squarespace Inc/Squarespace 6//v6//EN
BEGIN:VEVENT
UID:630e7cf208ed260222fa4a60@squarespace.com
DTSTAMP:20220830T211416Z
DTSTART:20220917T210000Z
DTEND:20220917T230000Z
SUMMARY:Grito de Independencia
END:VEVENT
END:VCALENDAR
