BEGIN:VCALENDAR
VERSION:2.0
PRODID:-//Squarespace Inc/Squarespace 6//v6//EN
BEGIN:VEVENT
UID:62ceffd09cfc7c077bf7b174@squarespace.com
DTSTAMP:20220713T192529Z
DTSTART:20220730T010000Z
DTEND:20220730T040000Z
SUMMARY:Fiesta Mexicana
GEO:47.761576;-122.206864
LOCATION:Centro Cultural Mexicano\, 18415 101st Avenue Northeast\, Bothell\
 , WA\, 98011\, United States
END:VEVENT
END:VCALENDAR
