BEGIN:VCALENDAR
VERSION:2.0
PRODID:-//Squarespace Inc/Squarespace 6//v6//EN
BEGIN:VEVENT
UID:62cddafc8db34c2c599f0bfe@squarespace.com
DTSTAMP:20220713T164723Z
DTSTART:20220717T210000Z
DTEND:20220718T000000Z
SUMMARY:Fiesta in the Park 
GEO:47.612909;-122.204181
LOCATION:Centro Cultural Mexicano\, 10201 Northeast 4th Street\, Bellevue\, 
 WA\, 98004\, United States
END:VEVENT
END:VCALENDAR
