BEGIN:VCALENDAR
VERSION:2.0
PRODID:-//Squarespace Inc/Squarespace 6//v6//EN
BEGIN:VEVENT
UID:647f92300c8d6e1835f0f509@squarespace.com
DTSTAMP:20230606T201552Z
DTSTART:20230616T013000Z
DTEND:20230616T030000Z
SUMMARY:FAFSA Workshop
GEO:47.674219;-122.122051
LOCATION:Centro Cultural Mexicano\, 7945 Gilman Street\, Redmond\, WA\, 980
 52\, United States
END:VEVENT
END:VCALENDAR
