BEGIN:VCALENDAR
VERSION:2.0
PRODID:-//Squarespace Inc/Squarespace 6//v6//EN
BEGIN:VEVENT
UID:61e0759d88d7fe4e1457cc41@squarespace.com
DTSTAMP:20220325T181912Z
DTSTART:20220123T200000Z
DTEND:20220124T010000Z
SUMMARY:Evento de Vacunación | Vaccination Event
GEO:40.720756;-74.000761
LOCATION:Centro Cultural Mexicano\, 7945 GILMAN ST\, REDMOND\, United State
 s
END:VEVENT
END:VCALENDAR
