BEGIN:VCALENDAR
VERSION:2.0
PRODID:-//Squarespace Inc/Squarespace 6//v6//EN
BEGIN:VEVENT
UID:6182e509de447d580b224d8e@squarespace.com
DTSTAMP:20220325T181809Z
DTSTART:20211103T010000Z
DTEND:20211103T030000Z
SUMMARY:Día de Muertos Celebration
GEO:40.720756;-74.000761
LOCATION:Centro Cultural Mexicano\, 7945 Gilman St\, Redmond\, United State
 s
END:VEVENT
END:VCALENDAR
