BEGIN:VCALENDAR
VERSION:2.0
PRODID:-//Squarespace Inc/Squarespace 6//v6//EN
BEGIN:VEVENT
UID:623e05e88380ce3f7e10571f@squarespace.com
DTSTAMP:20220406T172542Z
DTSTART:20220501T180000Z
DTEND:20220502T010000Z
SUMMARY:Cinco de Mayo: Fiesta para la Familia
GEO:42.230559;-97.017824
LOCATION:Redmond Downtown Park\, 16101 NE Redmond Way\, Redmond\, WA 98052\
 , United States
END:VEVENT
END:VCALENDAR
