BEGIN:VCALENDAR
VERSION:2.0
PRODID:-//Squarespace Inc/Squarespace 6//v6//EN
BEGIN:VEVENT
UID:623e051a9636ef6d2eb134e0@squarespace.com
DTSTAMP:20220412T211133Z
DTSTART:20220330T013000Z
DTEND:20220330T030000Z
SUMMARY:Asesoría Fiscal en Centro Cultural Mexicano
GEO:40.720756;-74.000761
LOCATION:Centro Cultural Mexicano\, 7945 GILMAN ST\, REDMOND\, United State
 s
END:VEVENT
END:VCALENDAR
