BEGIN:VCALENDAR
VERSION:2.0
PRODID:-//Squarespace Inc/Squarespace 6//v6//EN
BEGIN:VEVENT
UID:628293f0f25b6250cd990d49@squarespace.com
DTSTAMP:20220517T212635Z
DTSTART:20220526T010000Z
DTEND:20220526T030000Z
SUMMARY:Asesoría Financiera
GEO:47.674274;-122.122404
LOCATION:16300 Redmond Way #100\, Redmond\, WA\, 98052\, United States
END:VEVENT
END:VCALENDAR
